BEGIN:VCALENDAR
VERSION:2.0
PRODID:-//FC1869//CS
BEGIN:VEVENT
DTSTAMP:20260419T233850Z
DTSTART:20010915T064500Z
DTEND:20010915T074500Z
SUMMARY:2. FC 1869 - JUDr. Brouk Pytlík
LOCATION:P3
UID:69e5678a7e55b@FC1869
END:VEVENT
END:VCALENDAR