BEGIN:VCALENDAR
VERSION:2.0
PRODID:-//FC1869//CS
BEGIN:VEVENT
DTSTAMP:20260419T203349Z
DTSTART:20011007T080000Z
DTEND:20011007T090000Z
SUMMARY:5. Dehet 1. FC - FC 1869
LOCATION:P3
UID:69e53c2d24f66@FC1869
END:VEVENT
END:VCALENDAR