BEGIN:VCALENDAR
VERSION:2.0
PRODID:-//FC1869//CS
BEGIN:VEVENT
DTSTAMP:20260419T201707Z
DTSTART:20011013T103000Z
DTEND:20011013T113000Z
SUMMARY:6. FC 1869 - Gumídci
LOCATION:P2
UID:69e538436ebaa@FC1869
END:VEVENT
END:VCALENDAR