BEGIN:VCALENDAR
VERSION:2.0
PRODID:-//FC1869//CS
BEGIN:VEVENT
DTSTAMP:20260419T203251Z
DTSTART:20011028T101500Z
DTEND:20011028T111500Z
SUMMARY:8. FC 1869 - Klika CFA
LOCATION:K5
UID:69e53bf321444@FC1869
END:VEVENT
END:VCALENDAR