BEGIN:VCALENDAR
VERSION:2.0
PRODID:-//FC1869//CS
BEGIN:VEVENT
DTSTAMP:20260419T152150Z
DTSTART:20011117T090000Z
DTEND:20011117T100000Z
SUMMARY:10. FC 1869 - Sparta Popularos
LOCATION:P2
UID:69e4f30e59f7a@FC1869
END:VEVENT
END:VCALENDAR