BEGIN:VCALENDAR
VERSION:2.0
PRODID:-//FC1869//CS
BEGIN:VEVENT
DTSTAMP:20260419T141725Z
DTSTART:20120605T173000Z
DTEND:20120605T183000Z
SUMMARY:Pískání (VET 4. C Bublifuck VET - Turman VET)
LOCATION:ARIT
UID:69e4e3f595d2e@FC1869
END:VEVENT
END:VCALENDAR