BEGIN:VCALENDAR
VERSION:2.0
PRODID:-//FC1869//CS
BEGIN:VEVENT
DTSTAMP:20260419T152122Z
DTSTART:20011201T074500Z
DTEND:20011201T084500Z
SUMMARY:11. S. P. M. - FC 1869
LOCATION:PANK2
UID:69e4f2f20a381@FC1869
END:VEVENT
END:VCALENDAR