BEGIN:VCALENDAR
VERSION:2.0
PRODID:-//FC1869//CS
BEGIN:VEVENT
DTSTAMP:20260419T141724Z
DTSTART:20120605T184500Z
DTEND:20120605T194500Z
SUMMARY:Pískání (HL 4. B Rychlí hroši APK - Suchdol sabres A)
LOCATION:ARIT
UID:69e4e3f41b0fd@FC1869
END:VEVENT
END:VCALENDAR