BEGIN:VCALENDAR
VERSION:2.0
PRODID:-//FC1869//CS
BEGIN:VEVENT
DTSTAMP:20260419T141724Z
DTSTART:20120626T161500Z
DTEND:20120626T171500Z
SUMMARY:Pískání (VET 2. A Malostranský SK - Black Jack)
LOCATION:ARIT
UID:69e4e3f4b70f7@FC1869
END:VEVENT
END:VCALENDAR