BEGIN:VCALENDAR
VERSION:2.0
PRODID:-//FC1869//CS
BEGIN:VEVENT
DTSTAMP:20260419T141724Z
DTSTART:20120626T173000Z
DTEND:20120626T183000Z
SUMMARY:Pískání (HL 4. B Koberce Trend ARG - Suchdol sabres A)
LOCATION:ARIT
UID:69e4e3f495484@FC1869
END:VEVENT
END:VCALENDAR