BEGIN:VCALENDAR
VERSION:2.0
PRODID:-//FC1869//CS
BEGIN:VEVENT
DTSTAMP:20260419T141725Z
DTSTART:20120626T184500Z
DTEND:20120626T194500Z
SUMMARY:Pískání (VET 4. B Tuscarora VET - Gente VET)
LOCATION:ARIT
UID:69e4e3f51b5ad@FC1869
END:VEVENT
END:VCALENDAR