BEGIN:VCALENDAR
VERSION:2.0
PRODID:-//FC1869//CS
BEGIN:VEVENT
DTSTAMP:20260419T124322Z
DTSTART:20110410T114500Z
DTEND:20110410T124500Z
SUMMARY:1. Heliport SK - Target FC
LOCATION:DEKAN
UID:69e4cdea5f89b@FC1869
END:VEVENT
END:VCALENDAR