BEGIN:VCALENDAR
VERSION:2.0
PRODID:-//FC1869//CS
BEGIN:VEVENT
DTSTAMP:20260419T124346Z
DTSTART:20110506T184500Z
DTEND:20110506T194500Z
SUMMARY:5. MIFA Fighters FO - Target FC
LOCATION:DEKAN
UID:69e4ce027da29@FC1869
END:VEVENT
END:VCALENDAR