BEGIN:VCALENDAR
VERSION:2.0
PRODID:-//FC1869//CS
BEGIN:VEVENT
DTSTAMP:20260419T124324Z
DTSTART:20110612T103000Z
DTEND:20110612T113000Z
SUMMARY:9. Forejt FC - Target FC
LOCATION:DEKAN
UID:69e4cdec60911@FC1869
END:VEVENT
END:VCALENDAR