BEGIN:VCALENDAR
VERSION:2.0
PRODID:-//FC1869//CS
BEGIN:VEVENT
DTSTAMP:20260419T124302Z
DTSTART:20110626T114500Z
DTEND:20110626T124500Z
SUMMARY:11. Target FC - Borussia Dortšpunt C
LOCATION:TEMPO
UID:69e4cdd6dfa43@FC1869
END:VEVENT
END:VCALENDAR