BEGIN:VCALENDAR
VERSION:2.0
PRODID:-//FC1869//CS
BEGIN:VEVENT
DTSTAMP:20260419T124201Z
DTSTART:20120622T181500Z
DTEND:20120622T191500Z
SUMMARY:11. Pěstební dělnice - Los Bimbananos
LOCATION:TEMPO
UID:69e4cd99291de@FC1869
END:VEVENT
END:VCALENDAR