BEGIN:VCALENDAR
VERSION:2.0
PRODID:-//FC1869//CS
BEGIN:VEVENT
DTSTAMP:20260419T124321Z
DTSTART:20120622T181500Z
DTEND:20120622T191500Z
SUMMARY:11. Sparta Pivaři AC - Rosengart FC
LOCATION:P1
UID:69e4cde95edb4@FC1869
END:VEVENT
END:VCALENDAR