BEGIN:VCALENDAR
VERSION:2.0
PRODID:-//FC1869//CS
BEGIN:VEVENT
DTSTAMP:20260419T124152Z
DTSTART:20120525T170000Z
DTEND:20120525T180000Z
SUMMARY:7. Los Bimbananos - FC 1869
LOCATION:TEMPO
UID:69e4cd903a74b@FC1869
END:VEVENT
END:VCALENDAR