BEGIN:VCALENDAR
VERSION:2.0
PRODID:-//FC1869//CS
BEGIN:VEVENT
DTSTAMP:20260419T124158Z
DTSTART:20120330T173000Z
DTEND:20120330T183000Z
SUMMARY:1. Rosengart FC - Šejk Peterka
LOCATION:HOSTI
UID:69e4cd96c23cf@FC1869
END:VEVENT
END:VCALENDAR