BEGIN:VCALENDAR
VERSION:2.0
PRODID:-//FC1869//CS
BEGIN:VEVENT
DTSTAMP:20260419T124321Z
DTSTART:20120330T170000Z
DTEND:20120330T180000Z
SUMMARY:1. Los Bimbananos - Sparta Pivaři AC
LOCATION:TEMPO
UID:69e4cde9d97b9@FC1869
END:VEVENT
END:VCALENDAR