BEGIN:VCALENDAR
VERSION:2.0
PRODID:-//FC1869//CS
BEGIN:VEVENT
DTSTAMP:20260419T124153Z
DTSTART:20120413T161500Z
DTEND:20120413T171500Z
SUMMARY:2. Šejk Peterka - Los Bimbananos
LOCATION:BECH
UID:69e4cd919615f@FC1869
END:VEVENT
END:VCALENDAR