BEGIN:VCALENDAR
VERSION:2.0
PRODID:-//FC1869//CS
BEGIN:VEVENT
DTSTAMP:20260419T124200Z
DTSTART:20120413T173000Z
DTEND:20120413T183000Z
SUMMARY:2. Torpédo Hulín FC - Rosengart FC
LOCATION:HOSTI
UID:69e4cd9828405@FC1869
END:VEVENT
END:VCALENDAR