BEGIN:VCALENDAR
VERSION:2.0
PRODID:-//FC1869//CS
BEGIN:VEVENT
DTSTAMP:20260419T124154Z
DTSTART:20120420T170000Z
DTEND:20120420T180000Z
SUMMARY:3. Los Bimbananos - Torpédo Hulín FC
LOCATION:TEMPO
UID:69e4cd92a136b@FC1869
END:VEVENT
END:VCALENDAR