BEGIN:VCALENDAR
VERSION:2.0
PRODID:-//FC1869//CS
BEGIN:VEVENT
DTSTAMP:20260419T124301Z
DTSTART:20120420T161500Z
DTEND:20120420T171500Z
SUMMARY:3. Pěstební dělnice - Sparta Pivaři AC
LOCATION:HOSTI
UID:69e4cdd5dec56@FC1869
END:VEVENT
END:VCALENDAR