BEGIN:VCALENDAR
VERSION:2.0
PRODID:-//FC1869//CS
BEGIN:VEVENT
DTSTAMP:20260419T124201Z
DTSTART:20120427T161500Z
DTEND:20120427T171500Z
SUMMARY:4. Šejk Peterka - Pěstební dělnice  ! možná kolize barvy dresů !
LOCATION:BECH
UID:69e4cd99a3393@FC1869
END:VEVENT
END:VCALENDAR