BEGIN:VCALENDAR
VERSION:2.0
PRODID:-//FC1869//CS
BEGIN:VEVENT
DTSTAMP:20260419T124346Z
DTSTART:20120504T160000Z
DTEND:20120504T170000Z
SUMMARY:5. Pěstební dělnice - Torpédo Hulín FC
LOCATION:ZAK
UID:69e4ce02ae07e@FC1869
END:VEVENT
END:VCALENDAR