BEGIN:VCALENDAR
VERSION:2.0
PRODID:-//FC1869//CS
BEGIN:VEVENT
DTSTAMP:20260419T141714Z
DTSTART:20120504T161500Z
DTEND:20120504T171500Z
SUMMARY:5. Sparta Pivaři AC - Šejk Peterka
LOCATION:HOSTI
UID:69e4e3ea72ec3@FC1869
END:VEVENT
END:VCALENDAR