BEGIN:VCALENDAR
VERSION:2.0
PRODID:-//FC1869//CS
BEGIN:VEVENT
DTSTAMP:20260419T124443Z
DTSTART:20120511T161500Z
DTEND:20120511T171500Z
SUMMARY:6. Torpédo Hulín FC - Sparta Pivaři AC
LOCATION:HOSTI
UID:69e4ce3b9d287@FC1869
END:VEVENT
END:VCALENDAR