BEGIN:VCALENDAR
VERSION:2.0
PRODID:-//FC1869//CS
BEGIN:VEVENT
DTSTAMP:20260419T124323Z
DTSTART:20120525T161500Z
DTEND:20120525T171500Z
SUMMARY:7. Šejk Peterka - Torpédo Hulín FC
LOCATION:BECH
UID:69e4cdeb5fd88@FC1869
END:VEVENT
END:VCALENDAR