BEGIN:VCALENDAR
VERSION:2.0
PRODID:-//FC1869//CS
BEGIN:VEVENT
DTSTAMP:20260419T124301Z
DTSTART:20120601T173000Z
DTEND:20120601T183000Z
SUMMARY:8. Rosengart FC - Los Bimbananos
LOCATION:HOSTI
UID:69e4cdd54c791@FC1869
END:VEVENT
END:VCALENDAR