BEGIN:VCALENDAR
VERSION:2.0
PRODID:-//FC1869//CS
BEGIN:VEVENT
DTSTAMP:20260419T124344Z
DTSTART:20120615T173000Z
DTEND:20120615T183000Z
SUMMARY:10. Rosengart FC - Pěstební dělnice  ! možná kolize barvy dresů !
LOCATION:HOSTI
UID:69e4ce007e50e@FC1869
END:VEVENT
END:VCALENDAR