BEGIN:VCALENDAR
VERSION:2.0
PRODID:-//FC1869//CS
BEGIN:VEVENT
DTSTAMP:20260419T160102Z
DTSTART:20140409T150000Z
DTEND:20140409T160000Z
SUMMARY:Pískání (HL 5. D Tamu Pua 1.FC A - Spirit bar FC B)
LOCATION:HANSP
UID:69e4fc3ea2f06@FC1869
END:VEVENT
END:VCALENDAR