BEGIN:VCALENDAR
VERSION:2.0
PRODID:-//FC1869//CS
BEGIN:VEVENT
DTSTAMP:20260419T160101Z
DTSTART:20140409T161500Z
DTEND:20140409T171500Z
SUMMARY:Pískání (VET 3. D Gente VET - VŠSK MFF UK VET B)
LOCATION:HANSP
UID:69e4fc3d3fcf8@FC1869
END:VEVENT
END:VCALENDAR