BEGIN:VCALENDAR
VERSION:2.0
PRODID:-//FC1869//CS
BEGIN:VEVENT
DTSTAMP:20260419T160101Z
DTSTART:20140409T173000Z
DTEND:20140409T183000Z
SUMMARY:Pískání (HL 6. D Horoušany FC - Pendula Bona AC)
LOCATION:HANSP
UID:69e4fc3da227b@FC1869
END:VEVENT
END:VCALENDAR