BEGIN:VCALENDAR
VERSION:2.0
PRODID:-//FC1869//CS
BEGIN:VEVENT
DTSTAMP:20260419T160101Z
DTSTART:20140516T161500Z
DTEND:20140516T171500Z
SUMMARY:Pískání (VET 3. D VŠSK MFF UK VET B - Tycho de Brahe VET)
LOCATION:DEKAN
UID:69e4fc3d746a4@FC1869
END:VEVENT
END:VCALENDAR