BEGIN:VCALENDAR
VERSION:2.0
PRODID:-//FC1869//CS
BEGIN:VEVENT
DTSTAMP:20260419T155937Z
DTSTART:20140516T173000Z
DTEND:20140516T183000Z
SUMMARY:Pískání (VET 3. D Monočlánek FC VET - Kapacity FC)
LOCATION:DEKAN
UID:69e4fbe985a0e@FC1869
END:VEVENT
END:VCALENDAR