BEGIN:VCALENDAR
VERSION:2.0
PRODID:-//FC1869//CS
BEGIN:VEVENT
DTSTAMP:20260419T160102Z
DTSTART:20140516T184500Z
DTEND:20140516T194500Z
SUMMARY:Pískání (HL 5. F Démoni - Power Rangers)
LOCATION:DEKAN
UID:69e4fc3e2b304@FC1869
END:VEVENT
END:VCALENDAR