BEGIN:VCALENDAR
VERSION:2.0
PRODID:-//FC1869//CS
BEGIN:VEVENT
DTSTAMP:20260419T124345Z
DTSTART:20130901T083200Z
DTEND:20130901T085200Z
SUMMARY:1. FC 1869 - Sas fans
LOCATION:P3
UID:69e4ce017c594@FC1869
END:VEVENT
END:VCALENDAR