BEGIN:VCALENDAR
VERSION:2.0
PRODID:-//FC1869//CS
BEGIN:VEVENT
DTSTAMP:20260419T124442Z
DTSTART:20130901T091800Z
DTEND:20130901T093800Z
SUMMARY:1. Target FC - FC 1869
LOCATION:P3
UID:69e4ce3aa837c@FC1869
END:VEVENT
END:VCALENDAR