BEGIN:VCALENDAR
VERSION:2.0
PRODID:-//FC1869//CS
BEGIN:VEVENT
DTSTAMP:20260419T124443Z
DTSTART:20130901T100400Z
DTEND:20130901T102400Z
SUMMARY:1. Bohemians fans - FC 1869
LOCATION:P3
UID:69e4ce3b20526@FC1869
END:VEVENT
END:VCALENDAR