BEGIN:VCALENDAR
VERSION:2.0
PRODID:-//FC1869//CS
BEGIN:VEVENT
DTSTAMP:20260419T124303Z
DTSTART:20130901T070000Z
DTEND:20130901T072000Z
SUMMARY:1. Bohemians fans - Target FC
LOCATION:P3
UID:69e4cdd79aa4c@FC1869
END:VEVENT
END:VCALENDAR