BEGIN:VCALENDAR
VERSION:2.0
PRODID:-//FC1869//CS
BEGIN:VEVENT
DTSTAMP:20260419T124321Z
DTSTART:20130901T074600Z
DTEND:20130901T080600Z
SUMMARY:1. Bohemians fans - Sas fans
LOCATION:P3
UID:69e4cde91485e@FC1869
END:VEVENT
END:VCALENDAR