BEGIN:VCALENDAR
VERSION:2.0
PRODID:-//FC1869//CS
BEGIN:VEVENT
DTSTAMP:20260419T124345Z
DTSTART:20130901T102700Z
DTEND:20130901T104700Z
SUMMARY:1. Target FC - Sas fans
LOCATION:P3
UID:69e4ce0102194@FC1869
END:VEVENT
END:VCALENDAR