BEGIN:VCALENDAR
VERSION:2.0
PRODID:-//FC1869//CS
BEGIN:VEVENT
DTSTAMP:20260419T141537Z
DTSTART:20140401T161500Z
DTEND:20140401T171500Z
SUMMARY:1. FC 1869 - South Rise Again FC
LOCATION:NOVOB
UID:69e4e38921e69@FC1869
END:VEVENT
END:VCALENDAR