BEGIN:VCALENDAR
VERSION:2.0
PRODID:-//FC1869//CS
BEGIN:VEVENT
DTSTAMP:20260419T141529Z
DTSTART:20140408T181500Z
DTEND:20140408T191500Z
SUMMARY:2. FC 1869 - GFC Regent B
LOCATION:P1
UID:69e4e3814712a@FC1869
END:VEVENT
END:VCALENDAR