BEGIN:VCALENDAR
VERSION:2.0
PRODID:-//FC1869//CS
BEGIN:VEVENT
DTSTAMP:20260419T132420Z
DTSTART:20140415T163000Z
DTEND:20140415T173000Z
SUMMARY:3. Netopýr TFC - FC 1869
LOCATION:HRAB1
UID:69e4d784044ec@FC1869
END:VEVENT
END:VCALENDAR