BEGIN:VCALENDAR
VERSION:2.0
PRODID:-//FC1869//CS
BEGIN:VEVENT
DTSTAMP:20260419T141530Z
DTSTART:20140422T173000Z
DTEND:20140422T183000Z
SUMMARY:4. FC 1869 - Parní válec
LOCATION:BECH
UID:69e4e382c1d31@FC1869
END:VEVENT
END:VCALENDAR