BEGIN:VCALENDAR
VERSION:2.0
PRODID:-//FC1869//CS
BEGIN:VEVENT
DTSTAMP:20260419T141712Z
DTSTART:20140506T181500Z
DTEND:20140506T191500Z
SUMMARY:6. FC 1869 - Real Sharks
LOCATION:MOTO1
UID:69e4e3e8c413c@FC1869
END:VEVENT
END:VCALENDAR