BEGIN:VCALENDAR
VERSION:2.0
PRODID:-//FC1869//CS
BEGIN:VEVENT
DTSTAMP:20260419T124159Z
DTSTART:20140513T181500Z
DTEND:20140513T191500Z
SUMMARY:7. Rosengart FC - FC 1869
LOCATION:ZABEH
UID:69e4cd97a254c@FC1869
END:VEVENT
END:VCALENDAR