BEGIN:VCALENDAR
VERSION:2.0
PRODID:-//FC1869//CS
BEGIN:VEVENT
DTSTAMP:20260419T141539Z
DTSTART:20140520T184500Z
DTEND:20140520T194500Z
SUMMARY:8. FC 1869 - S nadhledem  ! možná kolize barvy dresů !
LOCATION:BECH
UID:69e4e38b22418@FC1869
END:VEVENT
END:VCALENDAR